BEGIN:VCALENDAR
VERSION:2.0
PRODID:-// - ECPv5.14.0.3//NONSGML v1.0//EN
CALSCALE:GREGORIAN
METHOD:PUBLISH
X-ORIGINAL-URL:https://www.shobogendo.de
X-WR-CALDESC:Veranstaltungen für 
BEGIN:VTIMEZONE
TZID:Europe/Berlin
BEGIN:DAYLIGHT
TZOFFSETFROM:+0100
TZOFFSETTO:+0200
TZNAME:CEST
DTSTART:20260329T010000
END:DAYLIGHT
BEGIN:STANDARD
TZOFFSETFROM:+0200
TZOFFSETTO:+0100
TZNAME:CET
DTSTART:20261025T010000
END:STANDARD
END:VTIMEZONE
BEGIN:VEVENT
DTSTART;TZID=Europe/Berlin:20260204T170000
DTEND;TZID=Europe/Berlin:20260204T183000
DTSTAMP:20260420T101220
CREATED:20220102T152925Z
LAST-MODIFIED:20251106T060105Z
UID:1286-1770224400-1770229800@www.shobogendo.de
SUMMARY:Kurs: Einstieg in die Zen-Meditation
DESCRIPTION:Ein Kurs über vier Wochen (immer mittwochs) \n4. bis 25. Februar \nAn jedem Abend werden wir erste Elemente der Zen-Lehre erfahren und dann in verschiedene Aspekte der Zen-Meditation (Zazen) eingeführt. Natürlich werden wir diese Übung auch praktisch realisieren: Wir lernen\, wie wir uns sammeln können und welche hilfreichen Formen die Zen-Tradition dazu anbietet. Wenn du diese Praxis des Sitzens in Stille und Konzentration kennenlernen und einige hinweisende Hintergründe und Lehrgrundlagen aufnehmen möchtest\, bist du hier willkommen. \nVoraussetzungen sind nicht nötig. Bitte dunkle\, lockere und längere Kleidung tragen. Der Kurs ist kostenlos\, Spenden sind willkommen. \nAnmeldung per Mail.
URL:https://www.shobogendo.de/event/kurs-einstieg-zen-meditation/
LOCATION:Zen Dojo Shobogendo\, Vahrenwalder Straße 34\, Hannover\, 30165\, Deutschland
END:VEVENT
END:VCALENDAR