BEGIN:VCALENDAR
VERSION:2.0
PRODID:-// - ECPv5.14.0.3//NONSGML v1.0//EN
CALSCALE:GREGORIAN
METHOD:PUBLISH
X-ORIGINAL-URL:https://www.shobogendo.de
X-WR-CALDESC:Veranstaltungen für 
BEGIN:VTIMEZONE
TZID:Europe/Berlin
BEGIN:DAYLIGHT
TZOFFSETFROM:+0100
TZOFFSETTO:+0200
TZNAME:CEST
DTSTART:20260329T010000
END:DAYLIGHT
BEGIN:STANDARD
TZOFFSETFROM:+0200
TZOFFSETTO:+0100
TZNAME:CET
DTSTART:20261025T010000
END:STANDARD
END:VTIMEZONE
BEGIN:VEVENT
DTSTART;TZID=Europe/Berlin:20260831T180000
DTEND;TZID=Europe/Berlin:20260906T130000
DTSTAMP:20260420T153918
CREATED:20180622T100102Z
LAST-MODIFIED:20251008T050929Z
UID:394-1788199200-1788699600@www.shobogendo.de
SUMMARY:Sesshin im Waldhaus am Laacher See
DESCRIPTION:Zen-Sesshin mit Zen Meisterin Dagmar Doko Waskönig. Sich in Stille und Zazen (der Zen-Meditation) sammeln \, die Lehre hören\, gemeinsam essen und arbeiten\, Beratung in Einzelgesprächen bei Bedarf. \nIm Waldhaus bleibt es dank der Lage am Wald schön kühl. So kann gut praktiziert werden. \nAuch für Einsteiger geeignet. \nAnmeldung (und Informationen zur Kursgebühr) direkt beim Waldhaus.
URL:https://www.shobogendo.de/event/august-sesshin/
LOCATION:Waldhaus am Laacher See\, Heimschule 1\, Nickenich\, 56645\, Deutschland
ORGANIZER;CN="Buddhismus%20im%20Westen%20e.V.":MAILTO:budwest@t-online.de
END:VEVENT
END:VCALENDAR